BEGIN:VCALENDAR
VERSION:2.0
PRODID:-//Redwood County, MN - ECPv6.15.20//NONSGML v1.0//EN
CALSCALE:GREGORIAN
METHOD:PUBLISH
X-WR-CALNAME:Redwood County, MN
X-ORIGINAL-URL:https://redwoodcounty-mn.us
X-WR-CALDESC:Events for Redwood County, MN
REFRESH-INTERVAL;VALUE=DURATION:PT1H
X-Robots-Tag:noindex
X-PUBLISHED-TTL:PT1H
BEGIN:VTIMEZONE
TZID:America/Chicago
BEGIN:DAYLIGHT
TZOFFSETFROM:-0600
TZOFFSETTO:-0500
TZNAME:CDT
DTSTART:20260308T080000
END:DAYLIGHT
BEGIN:STANDARD
TZOFFSETFROM:-0500
TZOFFSETTO:-0600
TZNAME:CST
DTSTART:20261101T070000
END:STANDARD
BEGIN:DAYLIGHT
TZOFFSETFROM:-0600
TZOFFSETTO:-0500
TZNAME:CDT
DTSTART:20270314T080000
END:DAYLIGHT
BEGIN:STANDARD
TZOFFSETFROM:-0500
TZOFFSETTO:-0600
TZNAME:CST
DTSTART:20271107T070000
END:STANDARD
BEGIN:DAYLIGHT
TZOFFSETFROM:-0600
TZOFFSETTO:-0500
TZNAME:CDT
DTSTART:20280312T080000
END:DAYLIGHT
BEGIN:STANDARD
TZOFFSETFROM:-0500
TZOFFSETTO:-0600
TZNAME:CST
DTSTART:20281105T070000
END:STANDARD
BEGIN:DAYLIGHT
TZOFFSETFROM:-0600
TZOFFSETTO:-0500
TZNAME:CDT
DTSTART:20290311T080000
END:DAYLIGHT
BEGIN:STANDARD
TZOFFSETFROM:-0500
TZOFFSETTO:-0600
TZNAME:CST
DTSTART:20291104T070000
END:STANDARD
BEGIN:DAYLIGHT
TZOFFSETFROM:-0600
TZOFFSETTO:-0500
TZNAME:CDT
DTSTART:20300310T080000
END:DAYLIGHT
BEGIN:STANDARD
TZOFFSETFROM:-0500
TZOFFSETTO:-0600
TZNAME:CST
DTSTART:20301103T070000
END:STANDARD
END:VTIMEZONE
BEGIN:VEVENT
DTSTART;TZID=America/Chicago:20270330T130000
DTEND;TZID=America/Chicago:20270330T150000
DTSTAMP:20260423T070953
CREATED:20260223T165828Z
LAST-MODIFIED:20260223T193959Z
UID:10001768-1806411600-1806418800@redwoodcounty-mn.us
SUMMARY:Planning Commission Meeting
DESCRIPTION:
URL:https://redwoodcounty-mn.us/event/planning-commission-meeting/2027-03-30/
LOCATION:Redwood County Government Center Board Room\, 403 S Mill St.\, Redwood Falls\, MN\, 56283\, United States
ORGANIZER;CN="Redwood County Environmental":MAILTO:environmental@redwoodcounty-mn.gov
END:VEVENT
BEGIN:VEVENT
DTSTART;TZID=America/Chicago:20270427T130000
DTEND;TZID=America/Chicago:20270427T150000
DTSTAMP:20260423T070953
CREATED:20260223T165828Z
LAST-MODIFIED:20260223T193959Z
UID:10001769-1808830800-1808838000@redwoodcounty-mn.us
SUMMARY:Planning Commission Meeting
DESCRIPTION:
URL:https://redwoodcounty-mn.us/event/planning-commission-meeting/2027-04-27/
LOCATION:Redwood County Government Center Board Room\, 403 S Mill St.\, Redwood Falls\, MN\, 56283\, United States
ORGANIZER;CN="Redwood County Environmental":MAILTO:environmental@redwoodcounty-mn.gov
END:VEVENT
BEGIN:VEVENT
DTSTART;TZID=America/Chicago:20270525T130000
DTEND;TZID=America/Chicago:20270525T150000
DTSTAMP:20260423T070953
CREATED:20260223T165828Z
LAST-MODIFIED:20260223T193959Z
UID:10001770-1811250000-1811257200@redwoodcounty-mn.us
SUMMARY:Planning Commission Meeting
DESCRIPTION:
URL:https://redwoodcounty-mn.us/event/planning-commission-meeting/2027-05-25/
LOCATION:Redwood County Government Center Board Room\, 403 S Mill St.\, Redwood Falls\, MN\, 56283\, United States
ORGANIZER;CN="Redwood County Environmental":MAILTO:environmental@redwoodcounty-mn.gov
END:VEVENT
BEGIN:VEVENT
DTSTART;TZID=America/Chicago:20270629T130000
DTEND;TZID=America/Chicago:20270629T150000
DTSTAMP:20260423T070953
CREATED:20260223T165828Z
LAST-MODIFIED:20260223T193959Z
UID:10001771-1814274000-1814281200@redwoodcounty-mn.us
SUMMARY:Planning Commission Meeting
DESCRIPTION:
URL:https://redwoodcounty-mn.us/event/planning-commission-meeting/2027-06-29/
LOCATION:Redwood County Government Center Board Room\, 403 S Mill St.\, Redwood Falls\, MN\, 56283\, United States
ORGANIZER;CN="Redwood County Environmental":MAILTO:environmental@redwoodcounty-mn.gov
END:VEVENT
BEGIN:VEVENT
DTSTART;TZID=America/Chicago:20270727T130000
DTEND;TZID=America/Chicago:20270727T150000
DTSTAMP:20260423T070953
CREATED:20260223T165828Z
LAST-MODIFIED:20260223T193959Z
UID:10001772-1816693200-1816700400@redwoodcounty-mn.us
SUMMARY:Planning Commission Meeting
DESCRIPTION:
URL:https://redwoodcounty-mn.us/event/planning-commission-meeting/2027-07-27/
LOCATION:Redwood County Government Center Board Room\, 403 S Mill St.\, Redwood Falls\, MN\, 56283\, United States
ORGANIZER;CN="Redwood County Environmental":MAILTO:environmental@redwoodcounty-mn.gov
END:VEVENT
BEGIN:VEVENT
DTSTART;TZID=America/Chicago:20270831T130000
DTEND;TZID=America/Chicago:20270831T150000
DTSTAMP:20260423T070953
CREATED:20260223T165828Z
LAST-MODIFIED:20260223T193959Z
UID:10001773-1819717200-1819724400@redwoodcounty-mn.us
SUMMARY:Planning Commission Meeting
DESCRIPTION:
URL:https://redwoodcounty-mn.us/event/planning-commission-meeting/2027-08-31/
LOCATION:Redwood County Government Center Board Room\, 403 S Mill St.\, Redwood Falls\, MN\, 56283\, United States
ORGANIZER;CN="Redwood County Environmental":MAILTO:environmental@redwoodcounty-mn.gov
END:VEVENT
BEGIN:VEVENT
DTSTART;TZID=America/Chicago:20270928T130000
DTEND;TZID=America/Chicago:20270928T150000
DTSTAMP:20260423T070953
CREATED:20260223T165828Z
LAST-MODIFIED:20260223T193959Z
UID:10001774-1822136400-1822143600@redwoodcounty-mn.us
SUMMARY:Planning Commission Meeting
DESCRIPTION:
URL:https://redwoodcounty-mn.us/event/planning-commission-meeting/2027-09-28/
LOCATION:Redwood County Government Center Board Room\, 403 S Mill St.\, Redwood Falls\, MN\, 56283\, United States
ORGANIZER;CN="Redwood County Environmental":MAILTO:environmental@redwoodcounty-mn.gov
END:VEVENT
BEGIN:VEVENT
DTSTART;TZID=America/Chicago:20271026T130000
DTEND;TZID=America/Chicago:20271026T150000
DTSTAMP:20260423T070953
CREATED:20260223T165828Z
LAST-MODIFIED:20260223T193959Z
UID:10001775-1824555600-1824562800@redwoodcounty-mn.us
SUMMARY:Planning Commission Meeting
DESCRIPTION:
URL:https://redwoodcounty-mn.us/event/planning-commission-meeting/2027-10-26/
LOCATION:Redwood County Government Center Board Room\, 403 S Mill St.\, Redwood Falls\, MN\, 56283\, United States
ORGANIZER;CN="Redwood County Environmental":MAILTO:environmental@redwoodcounty-mn.gov
END:VEVENT
BEGIN:VEVENT
DTSTART;TZID=America/Chicago:20271130T130000
DTEND;TZID=America/Chicago:20271130T150000
DTSTAMP:20260423T070953
CREATED:20260223T165828Z
LAST-MODIFIED:20260223T193959Z
UID:10001776-1827579600-1827586800@redwoodcounty-mn.us
SUMMARY:Planning Commission Meeting
DESCRIPTION:
URL:https://redwoodcounty-mn.us/event/planning-commission-meeting/2027-11-30/
LOCATION:Redwood County Government Center Board Room\, 403 S Mill St.\, Redwood Falls\, MN\, 56283\, United States
ORGANIZER;CN="Redwood County Environmental":MAILTO:environmental@redwoodcounty-mn.gov
END:VEVENT
BEGIN:VEVENT
DTSTART;TZID=America/Chicago:20271228T130000
DTEND;TZID=America/Chicago:20271228T150000
DTSTAMP:20260423T070953
CREATED:20260223T165828Z
LAST-MODIFIED:20260223T193959Z
UID:10001777-1829998800-1830006000@redwoodcounty-mn.us
SUMMARY:Planning Commission Meeting
DESCRIPTION:
URL:https://redwoodcounty-mn.us/event/planning-commission-meeting/2027-12-28/
LOCATION:Redwood County Government Center Board Room\, 403 S Mill St.\, Redwood Falls\, MN\, 56283\, United States
ORGANIZER;CN="Redwood County Environmental":MAILTO:environmental@redwoodcounty-mn.gov
END:VEVENT
BEGIN:VEVENT
DTSTART;TZID=America/Chicago:20280125T130000
DTEND;TZID=America/Chicago:20280125T150000
DTSTAMP:20260423T070953
CREATED:20260223T165828Z
LAST-MODIFIED:20260223T193959Z
UID:10001778-1832418000-1832425200@redwoodcounty-mn.us
SUMMARY:Planning Commission Meeting
DESCRIPTION:
URL:https://redwoodcounty-mn.us/event/planning-commission-meeting/2028-01-25/
LOCATION:Redwood County Government Center Board Room\, 403 S Mill St.\, Redwood Falls\, MN\, 56283\, United States
ORGANIZER;CN="Redwood County Environmental":MAILTO:environmental@redwoodcounty-mn.gov
END:VEVENT
BEGIN:VEVENT
DTSTART;TZID=America/Chicago:20280229T130000
DTEND;TZID=America/Chicago:20280229T150000
DTSTAMP:20260423T070953
CREATED:20260223T165828Z
LAST-MODIFIED:20260223T193959Z
UID:10001779-1835442000-1835449200@redwoodcounty-mn.us
SUMMARY:Planning Commission Meeting
DESCRIPTION:
URL:https://redwoodcounty-mn.us/event/planning-commission-meeting/2028-02-29/
LOCATION:Redwood County Government Center Board Room\, 403 S Mill St.\, Redwood Falls\, MN\, 56283\, United States
ORGANIZER;CN="Redwood County Environmental":MAILTO:environmental@redwoodcounty-mn.gov
END:VEVENT
BEGIN:VEVENT
DTSTART;TZID=America/Chicago:20280328T130000
DTEND;TZID=America/Chicago:20280328T150000
DTSTAMP:20260423T070953
CREATED:20260223T165828Z
LAST-MODIFIED:20260223T193959Z
UID:10001780-1837861200-1837868400@redwoodcounty-mn.us
SUMMARY:Planning Commission Meeting
DESCRIPTION:
URL:https://redwoodcounty-mn.us/event/planning-commission-meeting/2028-03-28/
LOCATION:Redwood County Government Center Board Room\, 403 S Mill St.\, Redwood Falls\, MN\, 56283\, United States
ORGANIZER;CN="Redwood County Environmental":MAILTO:environmental@redwoodcounty-mn.gov
END:VEVENT
BEGIN:VEVENT
DTSTART;TZID=America/Chicago:20280425T130000
DTEND;TZID=America/Chicago:20280425T150000
DTSTAMP:20260423T070953
CREATED:20260223T165828Z
LAST-MODIFIED:20260223T193959Z
UID:10001781-1840280400-1840287600@redwoodcounty-mn.us
SUMMARY:Planning Commission Meeting
DESCRIPTION:
URL:https://redwoodcounty-mn.us/event/planning-commission-meeting/2028-04-25/
LOCATION:Redwood County Government Center Board Room\, 403 S Mill St.\, Redwood Falls\, MN\, 56283\, United States
ORGANIZER;CN="Redwood County Environmental":MAILTO:environmental@redwoodcounty-mn.gov
END:VEVENT
BEGIN:VEVENT
DTSTART;TZID=America/Chicago:20280530T130000
DTEND;TZID=America/Chicago:20280530T150000
DTSTAMP:20260423T070953
CREATED:20260223T165828Z
LAST-MODIFIED:20260223T193959Z
UID:10001782-1843304400-1843311600@redwoodcounty-mn.us
SUMMARY:Planning Commission Meeting
DESCRIPTION:
URL:https://redwoodcounty-mn.us/event/planning-commission-meeting/2028-05-30/
LOCATION:Redwood County Government Center Board Room\, 403 S Mill St.\, Redwood Falls\, MN\, 56283\, United States
ORGANIZER;CN="Redwood County Environmental":MAILTO:environmental@redwoodcounty-mn.gov
END:VEVENT
BEGIN:VEVENT
DTSTART;TZID=America/Chicago:20280627T130000
DTEND;TZID=America/Chicago:20280627T150000
DTSTAMP:20260423T070953
CREATED:20260223T165828Z
LAST-MODIFIED:20260223T193959Z
UID:10001783-1845723600-1845730800@redwoodcounty-mn.us
SUMMARY:Planning Commission Meeting
DESCRIPTION:
URL:https://redwoodcounty-mn.us/event/planning-commission-meeting/2028-06-27/
LOCATION:Redwood County Government Center Board Room\, 403 S Mill St.\, Redwood Falls\, MN\, 56283\, United States
ORGANIZER;CN="Redwood County Environmental":MAILTO:environmental@redwoodcounty-mn.gov
END:VEVENT
BEGIN:VEVENT
DTSTART;TZID=America/Chicago:20280725T130000
DTEND;TZID=America/Chicago:20280725T150000
DTSTAMP:20260423T070953
CREATED:20260223T165828Z
LAST-MODIFIED:20260223T193959Z
UID:10001784-1848142800-1848150000@redwoodcounty-mn.us
SUMMARY:Planning Commission Meeting
DESCRIPTION:
URL:https://redwoodcounty-mn.us/event/planning-commission-meeting/2028-07-25/
LOCATION:Redwood County Government Center Board Room\, 403 S Mill St.\, Redwood Falls\, MN\, 56283\, United States
ORGANIZER;CN="Redwood County Environmental":MAILTO:environmental@redwoodcounty-mn.gov
END:VEVENT
BEGIN:VEVENT
DTSTART;TZID=America/Chicago:20280829T130000
DTEND;TZID=America/Chicago:20280829T150000
DTSTAMP:20260423T070953
CREATED:20260223T165828Z
LAST-MODIFIED:20260223T193959Z
UID:10001785-1851166800-1851174000@redwoodcounty-mn.us
SUMMARY:Planning Commission Meeting
DESCRIPTION:
URL:https://redwoodcounty-mn.us/event/planning-commission-meeting/2028-08-29/
LOCATION:Redwood County Government Center Board Room\, 403 S Mill St.\, Redwood Falls\, MN\, 56283\, United States
ORGANIZER;CN="Redwood County Environmental":MAILTO:environmental@redwoodcounty-mn.gov
END:VEVENT
BEGIN:VEVENT
DTSTART;TZID=America/Chicago:20280926T130000
DTEND;TZID=America/Chicago:20280926T150000
DTSTAMP:20260423T070953
CREATED:20260223T165828Z
LAST-MODIFIED:20260223T193959Z
UID:10001786-1853586000-1853593200@redwoodcounty-mn.us
SUMMARY:Planning Commission Meeting
DESCRIPTION:
URL:https://redwoodcounty-mn.us/event/planning-commission-meeting/2028-09-26/
LOCATION:Redwood County Government Center Board Room\, 403 S Mill St.\, Redwood Falls\, MN\, 56283\, United States
ORGANIZER;CN="Redwood County Environmental":MAILTO:environmental@redwoodcounty-mn.gov
END:VEVENT
BEGIN:VEVENT
DTSTART;TZID=America/Chicago:20281031T130000
DTEND;TZID=America/Chicago:20281031T150000
DTSTAMP:20260423T070953
CREATED:20260223T165828Z
LAST-MODIFIED:20260223T193959Z
UID:10001787-1856610000-1856617200@redwoodcounty-mn.us
SUMMARY:Planning Commission Meeting
DESCRIPTION:
URL:https://redwoodcounty-mn.us/event/planning-commission-meeting/2028-10-31/
LOCATION:Redwood County Government Center Board Room\, 403 S Mill St.\, Redwood Falls\, MN\, 56283\, United States
ORGANIZER;CN="Redwood County Environmental":MAILTO:environmental@redwoodcounty-mn.gov
END:VEVENT
BEGIN:VEVENT
DTSTART;TZID=America/Chicago:20281128T130000
DTEND;TZID=America/Chicago:20281128T150000
DTSTAMP:20260423T070953
CREATED:20260223T165828Z
LAST-MODIFIED:20260223T193959Z
UID:10001788-1859029200-1859036400@redwoodcounty-mn.us
SUMMARY:Planning Commission Meeting
DESCRIPTION:
URL:https://redwoodcounty-mn.us/event/planning-commission-meeting/2028-11-28/
LOCATION:Redwood County Government Center Board Room\, 403 S Mill St.\, Redwood Falls\, MN\, 56283\, United States
ORGANIZER;CN="Redwood County Environmental":MAILTO:environmental@redwoodcounty-mn.gov
END:VEVENT
BEGIN:VEVENT
DTSTART;TZID=America/Chicago:20281226T130000
DTEND;TZID=America/Chicago:20281226T150000
DTSTAMP:20260423T070953
CREATED:20260223T165828Z
LAST-MODIFIED:20260223T193959Z
UID:10001789-1861448400-1861455600@redwoodcounty-mn.us
SUMMARY:Planning Commission Meeting
DESCRIPTION:
URL:https://redwoodcounty-mn.us/event/planning-commission-meeting/2028-12-26/
LOCATION:Redwood County Government Center Board Room\, 403 S Mill St.\, Redwood Falls\, MN\, 56283\, United States
ORGANIZER;CN="Redwood County Environmental":MAILTO:environmental@redwoodcounty-mn.gov
END:VEVENT
BEGIN:VEVENT
DTSTART;TZID=America/Chicago:20290130T130000
DTEND;TZID=America/Chicago:20290130T150000
DTSTAMP:20260423T070953
CREATED:20260223T165828Z
LAST-MODIFIED:20260223T193959Z
UID:10001790-1864472400-1864479600@redwoodcounty-mn.us
SUMMARY:Planning Commission Meeting
DESCRIPTION:
URL:https://redwoodcounty-mn.us/event/planning-commission-meeting/2029-01-30/
LOCATION:Redwood County Government Center Board Room\, 403 S Mill St.\, Redwood Falls\, MN\, 56283\, United States
ORGANIZER;CN="Redwood County Environmental":MAILTO:environmental@redwoodcounty-mn.gov
END:VEVENT
BEGIN:VEVENT
DTSTART;TZID=America/Chicago:20290227T130000
DTEND;TZID=America/Chicago:20290227T150000
DTSTAMP:20260423T070953
CREATED:20260223T165828Z
LAST-MODIFIED:20260223T193959Z
UID:10001791-1866891600-1866898800@redwoodcounty-mn.us
SUMMARY:Planning Commission Meeting
DESCRIPTION:
URL:https://redwoodcounty-mn.us/event/planning-commission-meeting/2029-02-27/
LOCATION:Redwood County Government Center Board Room\, 403 S Mill St.\, Redwood Falls\, MN\, 56283\, United States
ORGANIZER;CN="Redwood County Environmental":MAILTO:environmental@redwoodcounty-mn.gov
END:VEVENT
BEGIN:VEVENT
DTSTART;TZID=America/Chicago:20290327T130000
DTEND;TZID=America/Chicago:20290327T150000
DTSTAMP:20260423T070953
CREATED:20260223T165828Z
LAST-MODIFIED:20260223T193959Z
UID:10001792-1869310800-1869318000@redwoodcounty-mn.us
SUMMARY:Planning Commission Meeting
DESCRIPTION:
URL:https://redwoodcounty-mn.us/event/planning-commission-meeting/2029-03-27/
LOCATION:Redwood County Government Center Board Room\, 403 S Mill St.\, Redwood Falls\, MN\, 56283\, United States
ORGANIZER;CN="Redwood County Environmental":MAILTO:environmental@redwoodcounty-mn.gov
END:VEVENT
BEGIN:VEVENT
DTSTART;TZID=America/Chicago:20290424T130000
DTEND;TZID=America/Chicago:20290424T150000
DTSTAMP:20260423T070953
CREATED:20260223T165828Z
LAST-MODIFIED:20260223T193959Z
UID:10001793-1871730000-1871737200@redwoodcounty-mn.us
SUMMARY:Planning Commission Meeting
DESCRIPTION:
URL:https://redwoodcounty-mn.us/event/planning-commission-meeting/2029-04-24/
LOCATION:Redwood County Government Center Board Room\, 403 S Mill St.\, Redwood Falls\, MN\, 56283\, United States
ORGANIZER;CN="Redwood County Environmental":MAILTO:environmental@redwoodcounty-mn.gov
END:VEVENT
BEGIN:VEVENT
DTSTART;TZID=America/Chicago:20290529T130000
DTEND;TZID=America/Chicago:20290529T150000
DTSTAMP:20260423T070953
CREATED:20260223T165828Z
LAST-MODIFIED:20260223T193959Z
UID:10001794-1874754000-1874761200@redwoodcounty-mn.us
SUMMARY:Planning Commission Meeting
DESCRIPTION:
URL:https://redwoodcounty-mn.us/event/planning-commission-meeting/2029-05-29/
LOCATION:Redwood County Government Center Board Room\, 403 S Mill St.\, Redwood Falls\, MN\, 56283\, United States
ORGANIZER;CN="Redwood County Environmental":MAILTO:environmental@redwoodcounty-mn.gov
END:VEVENT
BEGIN:VEVENT
DTSTART;TZID=America/Chicago:20290626T130000
DTEND;TZID=America/Chicago:20290626T150000
DTSTAMP:20260423T070953
CREATED:20260223T165828Z
LAST-MODIFIED:20260223T193959Z
UID:10001795-1877173200-1877180400@redwoodcounty-mn.us
SUMMARY:Planning Commission Meeting
DESCRIPTION:
URL:https://redwoodcounty-mn.us/event/planning-commission-meeting/2029-06-26/
LOCATION:Redwood County Government Center Board Room\, 403 S Mill St.\, Redwood Falls\, MN\, 56283\, United States
ORGANIZER;CN="Redwood County Environmental":MAILTO:environmental@redwoodcounty-mn.gov
END:VEVENT
BEGIN:VEVENT
DTSTART;TZID=America/Chicago:20290731T130000
DTEND;TZID=America/Chicago:20290731T150000
DTSTAMP:20260423T070953
CREATED:20260223T165828Z
LAST-MODIFIED:20260223T193959Z
UID:10001796-1880197200-1880204400@redwoodcounty-mn.us
SUMMARY:Planning Commission Meeting
DESCRIPTION:
URL:https://redwoodcounty-mn.us/event/planning-commission-meeting/2029-07-31/
LOCATION:Redwood County Government Center Board Room\, 403 S Mill St.\, Redwood Falls\, MN\, 56283\, United States
ORGANIZER;CN="Redwood County Environmental":MAILTO:environmental@redwoodcounty-mn.gov
END:VEVENT
BEGIN:VEVENT
DTSTART;TZID=America/Chicago:20290828T130000
DTEND;TZID=America/Chicago:20290828T150000
DTSTAMP:20260423T070953
CREATED:20260223T165828Z
LAST-MODIFIED:20260223T193959Z
UID:10001797-1882616400-1882623600@redwoodcounty-mn.us
SUMMARY:Planning Commission Meeting
DESCRIPTION:
URL:https://redwoodcounty-mn.us/event/planning-commission-meeting/2029-08-28/
LOCATION:Redwood County Government Center Board Room\, 403 S Mill St.\, Redwood Falls\, MN\, 56283\, United States
ORGANIZER;CN="Redwood County Environmental":MAILTO:environmental@redwoodcounty-mn.gov
END:VEVENT
END:VCALENDAR